Package: RBM Version: 1.41.0 Command: rm -rf RBM.buildbin-libdir && mkdir RBM.buildbin-libdir && /Users/biocbuild/BBS/utils/build-universal.sh RBM_1.41.0.tar.gz /Library/Frameworks/R.framework/Resources/bin/R RBM.buildbin-libdir StartedAt: 2025-10-04 02:23:38 -0400 (Sat, 04 Oct 2025) EndedAt: 2025-10-04 02:23:45 -0400 (Sat, 04 Oct 2025) EllapsedTime: 7.0 seconds RetCode: 0 Status: OK PackageFile: RBM_1.41.0.tgz PackageFileSize: 395.2 KiB