Package: RBM Version: 1.41.0 Command: /Library/Frameworks/R.framework/Resources/bin/R CMD check --install=check:RBM.install-out.txt --library=/Library/Frameworks/R.framework/Resources/library --no-vignettes --timings RBM_1.41.0.tar.gz StartedAt: 2025-10-24 21:33:58 -0400 (Fri, 24 Oct 2025) EndedAt: 2025-10-24 21:34:17 -0400 (Fri, 24 Oct 2025) EllapsedTime: 18.3 seconds RetCode: 0 Status: OK CheckDir: RBM.Rcheck Warnings: 0