Package: RAIDS Version: 1.7.3 Command: /home/biocbuild/R/R/bin/R CMD INSTALL RAIDS StartedAt: 2025-10-23 21:04:32 -0000 (Thu, 23 Oct 2025) EndedAt: 2025-10-23 21:05:41 -0000 (Thu, 23 Oct 2025) EllapsedTime: 69.5 seconds RetCode: 0 Status: OK