Package: RAIDS Version: 1.7.3 Command: /home/biocbuild/R/R/bin/R CMD build --keep-empty-dirs --no-resave-data RAIDS StartedAt: 2025-10-21 02:17:09 -0000 (Tue, 21 Oct 2025) EndedAt: 2025-10-21 02:20:04 -0000 (Tue, 21 Oct 2025) EllapsedTime: 174.1 seconds RetCode: 0 Status: OK PackageFile: RAIDS_1.7.3.tar.gz PackageFileSize: 3.345 MiB