Package: RAIDS Version: 1.8.0 Command: /Library/Frameworks/R.framework/Resources/bin/R CMD INSTALL RAIDS StartedAt: 2025-11-03 15:42:38 -0500 (Mon, 03 Nov 2025) EndedAt: 2025-11-03 15:43:54 -0500 (Mon, 03 Nov 2025) EllapsedTime: 76.5 seconds RetCode: 0 Status: OK