Package: RAIDS Version: 1.8.0 Command: rm -rf RAIDS.buildbin-libdir && mkdir RAIDS.buildbin-libdir && /Users/biocbuild/BBS/utils/build-universal.sh RAIDS_1.8.0.tar.gz /Library/Frameworks/R.framework/Resources/bin/R RAIDS.buildbin-libdir StartedAt: 2025-11-04 01:57:43 -0500 (Tue, 04 Nov 2025) EndedAt: 2025-11-04 01:59:01 -0500 (Tue, 04 Nov 2025) EllapsedTime: 78.7 seconds RetCode: 0 Status: OK PackageFile: RAIDS_1.8.0.tgz PackageFileSize: 2.789 MiB