Package: RAIDS Version: 1.7.3 Command: /Library/Frameworks/R.framework/Resources/bin/R CMD check --install=check:RAIDS.install-out.txt --library=/Library/Frameworks/R.framework/Resources/library --no-vignettes --timings RAIDS_1.7.3.tar.gz StartedAt: 2025-10-23 21:38:31 -0400 (Thu, 23 Oct 2025) EndedAt: 2025-10-23 21:41:22 -0400 (Thu, 23 Oct 2025) EllapsedTime: 171.5 seconds RetCode: 0 Status: OK CheckDir: RAIDS.Rcheck Warnings: 0