Package: RAIDS Version: 1.7.3 Command: rm -rf RAIDS.buildbin-libdir && mkdir RAIDS.buildbin-libdir && /Users/biocbuild/BBS/utils/build-universal.sh RAIDS_1.7.3.tar.gz /Library/Frameworks/R.framework/Resources/bin/R RAIDS.buildbin-libdir StartedAt: 2025-10-23 23:22:28 -0400 (Thu, 23 Oct 2025) EndedAt: 2025-10-23 23:22:54 -0400 (Thu, 23 Oct 2025) EllapsedTime: 25.6 seconds RetCode: 0 Status: OK PackageFile: RAIDS_1.7.3.tgz PackageFileSize: 2.803 MiB