Package: Qtlizer Version: 1.23.0 Command: /home/biocbuild/R/R/bin/R CMD INSTALL Qtlizer StartedAt: 2025-10-16 21:28:45 -0000 (Thu, 16 Oct 2025) EndedAt: 2025-10-16 21:28:47 -0000 (Thu, 16 Oct 2025) EllapsedTime: 2.6 seconds RetCode: 0 Status: OK