Package: Qtlizer Version: 1.23.0 Command: F:\biocbuild\bbs-3.22-bioc\R\bin\R.exe CMD check --no-multiarch --install=check:Qtlizer.install-out.txt --library=F:\biocbuild\bbs-3.22-bioc\R\library --no-vignettes --timings Qtlizer_1.23.0.tar.gz StartedAt: 2025-08-15 06:44:35 -0400 (Fri, 15 Aug 2025) EndedAt: 2025-08-15 06:45:07 -0400 (Fri, 15 Aug 2025) EllapsedTime: 32.4 seconds RetCode: 0 Status: OK CheckDir: Qtlizer.Rcheck Warnings: 0