Package: Qtlizer Version: 1.23.0 Command: rm -rf Qtlizer.buildbin-libdir && mkdir Qtlizer.buildbin-libdir && F:\biocbuild\bbs-3.22-bioc\R\bin\R.exe CMD INSTALL --build --library=Qtlizer.buildbin-libdir Qtlizer_1.23.0.tar.gz StartedAt: 2025-08-15 11:01:53 -0400 (Fri, 15 Aug 2025) EndedAt: 2025-08-15 11:02:03 -0400 (Fri, 15 Aug 2025) EllapsedTime: 10.1 seconds RetCode: 0 Status: OK PackageFile: Qtlizer_1.23.0.zip PackageFileSize: 239.8 KiB