Package: Qtlizer Version: 1.23.0 Command: /Library/Frameworks/R.framework/Resources/bin/R CMD INSTALL Qtlizer StartedAt: 2025-10-19 15:19:40 -0400 (Sun, 19 Oct 2025) EndedAt: 2025-10-19 15:19:45 -0400 (Sun, 19 Oct 2025) EllapsedTime: 4.6 seconds RetCode: 0 Status: OK