Package: Qtlizer Version: 1.23.0 Command: /Library/Frameworks/R.framework/Resources/bin/R CMD build --keep-empty-dirs --no-resave-data Qtlizer StartedAt: 2025-10-19 18:55:36 -0400 (Sun, 19 Oct 2025) EndedAt: 2025-10-19 18:55:53 -0400 (Sun, 19 Oct 2025) EllapsedTime: 17.3 seconds RetCode: 0 Status: OK PackageFile: Qtlizer_1.23.0.tar.gz PackageFileSize: 223.2 KiB