Package: Qtlizer Version: 1.23.0 Command: rm -rf Qtlizer.buildbin-libdir && mkdir Qtlizer.buildbin-libdir && /Users/biocbuild/BBS/utils/build-universal.sh Qtlizer_1.23.0.tar.gz /Library/Frameworks/R.framework/Resources/bin/R Qtlizer.buildbin-libdir StartedAt: 2025-10-20 03:26:47 -0400 (Mon, 20 Oct 2025) EndedAt: 2025-10-20 03:26:54 -0400 (Mon, 20 Oct 2025) EllapsedTime: 7.1 seconds RetCode: 0 Status: OK PackageFile: Qtlizer_1.23.0.tgz PackageFileSize: 235.8 KiB