Package: Qtlizer Version: 1.23.0 Command: rm -rf Qtlizer.buildbin-libdir && mkdir Qtlizer.buildbin-libdir && /Users/biocbuild/BBS/utils/build-universal.sh Qtlizer_1.23.0.tar.gz /Library/Frameworks/R.framework/Resources/bin/R Qtlizer.buildbin-libdir StartedAt: 2025-10-19 23:11:39 -0400 (Sun, 19 Oct 2025) EndedAt: 2025-10-19 23:11:41 -0400 (Sun, 19 Oct 2025) EllapsedTime: 2.0 seconds RetCode: 0 Status: OK PackageFile: Qtlizer_1.23.0.tgz PackageFileSize: 236 KiB