Package: QUBIC Version: 1.37.0 Command: /home/biocbuild/R/R/bin/R CMD INSTALL QUBIC StartedAt: 2025-10-09 21:02:36 -0000 (Thu, 09 Oct 2025) EndedAt: 2025-10-09 21:03:38 -0000 (Thu, 09 Oct 2025) EllapsedTime: 62.9 seconds RetCode: 0 Status: OK