Package: QTLExperiment Version: 2.1.2 Command: /home/biocbuild/R/R/bin/R CMD INSTALL QTLExperiment StartedAt: 2025-10-23 20:44:52 -0000 (Thu, 23 Oct 2025) EndedAt: 2025-10-23 20:45:26 -0000 (Thu, 23 Oct 2025) EllapsedTime: 33.7 seconds RetCode: 0 Status: OK