Package: QTLExperiment Version: 2.1.2 Command: /home/biocbuild/R/R/bin/R CMD build --keep-empty-dirs --no-resave-data QTLExperiment StartedAt: 2025-10-21 02:14:30 -0000 (Tue, 21 Oct 2025) EndedAt: 2025-10-21 02:15:21 -0000 (Tue, 21 Oct 2025) EllapsedTime: 51.0 seconds RetCode: 0 Status: OK PackageFile: QTLExperiment_2.1.2.tar.gz PackageFileSize: 680.9 KiB