Package: QTLExperiment Version: 2.1.1 Command: rm -rf QTLExperiment.buildbin-libdir && mkdir QTLExperiment.buildbin-libdir && F:\biocbuild\bbs-3.22-bioc\R\bin\R.exe CMD INSTALL --build --library=QTLExperiment.buildbin-libdir QTLExperiment_2.1.1.tar.gz StartedAt: 2025-08-15 11:01:51 -0400 (Fri, 15 Aug 2025) EndedAt: 2025-08-15 11:03:49 -0400 (Fri, 15 Aug 2025) EllapsedTime: 117.9 seconds RetCode: 0 Status: OK PackageFile: QTLExperiment_2.1.1.zip PackageFileSize: 1.143 MiB