Package: QTLExperiment Version: 2.1.2 Command: /home/biocbuild/bbs-3.22-bioc/R/bin/R CMD check --install=check:QTLExperiment.install-out.txt --library=/home/biocbuild/bbs-3.22-bioc/R/site-library --timings QTLExperiment_2.1.2.tar.gz StartedAt: 2025-10-20 03:39:04 -0400 (Mon, 20 Oct 2025) EndedAt: 2025-10-20 03:42:19 -0400 (Mon, 20 Oct 2025) EllapsedTime: 194.2 seconds RetCode: 0 Status: OK CheckDir: QTLExperiment.Rcheck Warnings: 0