Package: QRscore Version: 1.2.0 Maintainer: Fanding Zhou MaintainerEmail: zhoufd at berkeley.edu git_url: https://git.bioconductor.org/packages/QRscore git_branch: RELEASE_3_22 git_last_commit: 89dd601 git_last_commit_date: 2025-10-29 11:36:23 -0400 (Wed, 29 Oct 2025)