Package: QFeatures Version: 1.19.2 Command: /home/biocbuild/R/R/bin/R CMD INSTALL QFeatures StartedAt: 2025-10-13 21:13:16 -0000 (Mon, 13 Oct 2025) EndedAt: 2025-10-13 21:13:54 -0000 (Mon, 13 Oct 2025) EllapsedTime: 37.8 seconds RetCode: 0 Status: OK