Package: QFeatures Version: 1.19.2 Command: /home/biocbuild/R/R/bin/R CMD build --keep-empty-dirs --no-resave-data QFeatures StartedAt: 2025-10-14 02:44:51 -0000 (Tue, 14 Oct 2025) EndedAt: 2025-10-14 02:46:51 -0000 (Tue, 14 Oct 2025) EllapsedTime: 120.1 seconds RetCode: 0 Status: OK PackageFile: QFeatures_1.19.2.tar.gz PackageFileSize: 4.771 MiB