Package: QDNAseq Version: 1.45.1 Command: /home/biocbuild/bbs-3.22-bioc/R/bin/R CMD INSTALL QDNAseq StartedAt: 2025-10-20 15:14:51 -0400 (Mon, 20 Oct 2025) EndedAt: 2025-10-20 15:15:09 -0400 (Mon, 20 Oct 2025) EllapsedTime: 18.3 seconds RetCode: 0 Status: OK