Package: QDNAseq Version: 1.45.1 Command: /home/biocbuild/bbs-3.22-bioc/R/bin/R CMD build --keep-empty-dirs --no-resave-data --md5 QDNAseq StartedAt: 2025-10-19 19:26:31 -0400 (Sun, 19 Oct 2025) EndedAt: 2025-10-19 19:27:19 -0400 (Sun, 19 Oct 2025) EllapsedTime: 48.1 seconds RetCode: 0 Status: OK PackageFile: QDNAseq_1.45.1.tar.gz PackageFileSize: 1.071 MiB