Package: QDNAseq Version: 1.45.1 Command: /Library/Frameworks/R.framework/Resources/bin/R CMD build --keep-empty-dirs --no-resave-data QDNAseq StartedAt: 2025-10-22 18:15:18 -0400 (Wed, 22 Oct 2025) EndedAt: 2025-10-22 18:16:08 -0400 (Wed, 22 Oct 2025) EllapsedTime: 50.2 seconds RetCode: 0 Status: OK PackageFile: QDNAseq_1.45.1.tar.gz PackageFileSize: 992.6 KiB