Package: QDNAseq Version: 1.45.1 Command: /Library/Frameworks/R.framework/Resources/bin/R CMD check --install=check:QDNAseq.install-out.txt --library=/Library/Frameworks/R.framework/Resources/library --no-vignettes --timings QDNAseq_1.45.1.tar.gz StartedAt: 2025-10-20 21:28:02 -0400 (Mon, 20 Oct 2025) EndedAt: 2025-10-20 21:30:53 -0400 (Mon, 20 Oct 2025) EllapsedTime: 171.1 seconds RetCode: 0 Status: OK CheckDir: QDNAseq.Rcheck Warnings: 0