Package: ProteoMM Version: 1.28.0 Command: /Library/Frameworks/R.framework/Resources/bin/R CMD INSTALL ProteoMM StartedAt: 2025-11-17 17:40:40 -0500 (Mon, 17 Nov 2025) EndedAt: 2025-11-17 17:40:54 -0500 (Mon, 17 Nov 2025) EllapsedTime: 13.9 seconds RetCode: 0 Status: OK