Package: ProteoDisco Version: 1.15.1 Command: /Library/Frameworks/R.framework/Resources/bin/R CMD check --install=check:ProteoDisco.install-out.txt --library=/Library/Frameworks/R.framework/Resources/library --no-vignettes --timings ProteoDisco_1.15.1.tar.gz StartedAt: 2025-10-21 00:53:23 -0400 (Tue, 21 Oct 2025) EndedAt: 2025-10-21 01:04:07 -0400 (Tue, 21 Oct 2025) EllapsedTime: 643.9 seconds RetCode: 0 Status: WARNINGS CheckDir: ProteoDisco.Rcheck Warnings: 2