Package: ProteoDisco Version: 1.15.1 Command: /Library/Frameworks/R.framework/Resources/bin/R CMD build --keep-empty-dirs --no-resave-data ProteoDisco StartedAt: 2025-10-16 19:18:41 -0400 (Thu, 16 Oct 2025) EndedAt: 2025-10-16 19:23:36 -0400 (Thu, 16 Oct 2025) EllapsedTime: 295.2 seconds RetCode: 0 Status: OK PackageFile: ProteoDisco_1.15.1.tar.gz PackageFileSize: 506.4 KiB