Package: ProtGenerics Version: 1.41.0 Command: /home/biocbuild/R/R/bin/R CMD INSTALL ProtGenerics StartedAt: 2025-10-20 20:09:38 -0000 (Mon, 20 Oct 2025) EndedAt: 2025-10-20 20:10:05 -0000 (Mon, 20 Oct 2025) EllapsedTime: 27.1 seconds RetCode: 0 Status: OK