Package: ProtGenerics Version: 1.41.0 Command: /Library/Frameworks/R.framework/Resources/bin/R CMD INSTALL ProtGenerics StartedAt: 2025-10-20 15:04:34 -0400 (Mon, 20 Oct 2025) EndedAt: 2025-10-20 15:05:15 -0400 (Mon, 20 Oct 2025) EllapsedTime: 41.8 seconds RetCode: 0 Status: OK