Package: ProtGenerics Version: 1.41.0 Command: /Library/Frameworks/R.framework/Resources/bin/R CMD build --keep-empty-dirs --no-resave-data ProtGenerics StartedAt: 2025-10-20 18:53:22 -0400 (Mon, 20 Oct 2025) EndedAt: 2025-10-20 18:53:24 -0400 (Mon, 20 Oct 2025) EllapsedTime: 2.3 seconds RetCode: 0 Status: OK PackageFile: ProtGenerics_1.41.0.tar.gz PackageFileSize: 10.88 KiB