Package: ProtGenerics Version: 1.41.0 Command: /Library/Frameworks/R.framework/Resources/bin/R CMD check --install=check:ProtGenerics.install-out.txt --library=/Library/Frameworks/R.framework/Resources/library --no-vignettes --timings ProtGenerics_1.41.0.tar.gz StartedAt: 2025-10-20 21:26:28 -0400 (Mon, 20 Oct 2025) EndedAt: 2025-10-20 21:26:39 -0400 (Mon, 20 Oct 2025) EllapsedTime: 11.1 seconds RetCode: 0 Status: OK CheckDir: ProtGenerics.Rcheck Warnings: 0