Package: Prostar Version: 1.41.0 Command: /Library/Frameworks/R.framework/Resources/bin/R CMD INSTALL Prostar StartedAt: 2025-10-19 15:39:47 -0400 (Sun, 19 Oct 2025) EndedAt: 2025-10-19 15:40:44 -0400 (Sun, 19 Oct 2025) EllapsedTime: 57.7 seconds RetCode: 0 Status: OK