Package: Prostar Version: 1.41.0 Command: /Library/Frameworks/R.framework/Resources/bin/R CMD build --keep-empty-dirs --no-resave-data Prostar StartedAt: 2025-10-19 18:52:59 -0400 (Sun, 19 Oct 2025) EndedAt: 2025-10-19 18:54:05 -0400 (Sun, 19 Oct 2025) EllapsedTime: 66.3 seconds RetCode: 0 Status: OK PackageFile: Prostar_1.41.0.tar.gz PackageFileSize: 4.201 MiB