Package: Prostar Version: 1.41.0 Command: rm -rf Prostar.buildbin-libdir && mkdir Prostar.buildbin-libdir && /Users/biocbuild/BBS/utils/build-universal.sh Prostar_1.41.0.tar.gz /Library/Frameworks/R.framework/Resources/bin/R Prostar.buildbin-libdir StartedAt: 2025-10-20 03:26:15 -0400 (Mon, 20 Oct 2025) EndedAt: 2025-10-20 03:27:16 -0400 (Mon, 20 Oct 2025) EllapsedTime: 61.3 seconds RetCode: 0 Status: OK PackageFile: Prostar_1.41.0.tgz PackageFileSize: 1.562 MiB