Package: Prostar Version: 1.41.0 Command: /Library/Frameworks/R.framework/Resources/bin/R CMD INSTALL Prostar StartedAt: 2025-10-20 15:22:22 -0400 (Mon, 20 Oct 2025) EndedAt: 2025-10-20 15:22:38 -0400 (Mon, 20 Oct 2025) EllapsedTime: 16.2 seconds RetCode: 0 Status: OK