Package: Prostar Version: 1.41.0 Command: /Library/Frameworks/R.framework/Resources/bin/R CMD check --install=check:Prostar.install-out.txt --library=/Library/Frameworks/R.framework/Resources/library --no-vignettes --timings Prostar_1.41.0.tar.gz StartedAt: 2025-10-20 21:26:11 -0400 (Mon, 20 Oct 2025) EndedAt: 2025-10-20 21:27:55 -0400 (Mon, 20 Oct 2025) EllapsedTime: 103.2 seconds RetCode: 0 Status: WARNINGS CheckDir: Prostar.Rcheck Warnings: 1