Package: Prostar Version: 1.41.0 Command: /Library/Frameworks/R.framework/Resources/bin/R CMD build --keep-empty-dirs --no-resave-data Prostar StartedAt: 2025-10-20 17:22:30 -0400 (Mon, 20 Oct 2025) EndedAt: 2025-10-20 17:22:48 -0400 (Mon, 20 Oct 2025) EllapsedTime: 18.2 seconds RetCode: 0 Status: OK PackageFile: Prostar_1.41.0.tar.gz PackageFileSize: 4.2 MiB