Package: PrInCE Version: 1.25.0 Command: rm -rf PrInCE.buildbin-libdir && mkdir PrInCE.buildbin-libdir && F:\biocbuild\bbs-3.22-bioc\R\bin\R.exe CMD INSTALL --build --library=PrInCE.buildbin-libdir PrInCE_1.25.0.tar.gz StartedAt: 2025-08-15 10:59:29 -0400 (Fri, 15 Aug 2025) EndedAt: 2025-08-15 11:00:24 -0400 (Fri, 15 Aug 2025) EllapsedTime: 54.5 seconds RetCode: 0 Status: OK PackageFile: PrInCE_1.25.0.zip PackageFileSize: 1.672 MiB