Package: PrInCE Version: 1.25.0 Command: /Library/Frameworks/R.framework/Resources/bin/R CMD INSTALL PrInCE StartedAt: 2025-10-03 15:39:19 -0400 (Fri, 03 Oct 2025) EndedAt: 2025-10-03 15:40:37 -0400 (Fri, 03 Oct 2025) EllapsedTime: 78.0 seconds RetCode: 0 Status: OK