Package: PrInCE Version: 1.25.0 Command: /Library/Frameworks/R.framework/Resources/bin/R CMD check --install=check:PrInCE.install-out.txt --library=/Library/Frameworks/R.framework/Resources/library --no-vignettes --timings PrInCE_1.25.0.tar.gz StartedAt: 2025-10-03 23:50:21 -0400 (Fri, 03 Oct 2025) EndedAt: 2025-10-03 23:56:18 -0400 (Fri, 03 Oct 2025) EllapsedTime: 356.6 seconds RetCode: 0 Status: WARNINGS CheckDir: PrInCE.Rcheck Warnings: 1