Package: PrInCE Version: 1.25.0 Command: /Library/Frameworks/R.framework/Resources/bin/R CMD build --keep-empty-dirs --no-resave-data PrInCE StartedAt: 2025-10-03 18:31:20 -0400 (Fri, 03 Oct 2025) EndedAt: 2025-10-03 18:34:26 -0400 (Fri, 03 Oct 2025) EllapsedTime: 186.2 seconds RetCode: 0 Status: OK PackageFile: PrInCE_1.25.0.tar.gz PackageFileSize: 1.82 MiB