Package: PrInCE Version: 1.25.0 Command: rm -rf PrInCE.buildbin-libdir && mkdir PrInCE.buildbin-libdir && /Users/biocbuild/BBS/utils/build-universal.sh PrInCE_1.25.0.tar.gz /Library/Frameworks/R.framework/Resources/bin/R PrInCE.buildbin-libdir StartedAt: 2025-10-04 02:22:01 -0400 (Sat, 04 Oct 2025) EndedAt: 2025-10-04 02:23:04 -0400 (Sat, 04 Oct 2025) EllapsedTime: 62.9 seconds RetCode: 0 Status: OK PackageFile: PrInCE_1.25.0.tgz PackageFileSize: 1.688 MiB