Package: PrInCE Version: 1.25.0 Command: /Library/Frameworks/R.framework/Resources/bin/R CMD INSTALL PrInCE StartedAt: 2025-10-03 15:23:52 -0400 (Fri, 03 Oct 2025) EndedAt: 2025-10-03 15:24:16 -0400 (Fri, 03 Oct 2025) EllapsedTime: 23.2 seconds RetCode: 0 Status: OK