Package: PrInCE Version: 1.25.0 Command: /Library/Frameworks/R.framework/Resources/bin/R CMD check --install=check:PrInCE.install-out.txt --library=/Library/Frameworks/R.framework/Resources/library --no-vignettes --timings PrInCE_1.25.0.tar.gz StartedAt: 2025-10-03 21:04:48 -0400 (Fri, 03 Oct 2025) EndedAt: 2025-10-03 21:06:53 -0400 (Fri, 03 Oct 2025) EllapsedTime: 125.5 seconds RetCode: 0 Status: WARNINGS CheckDir: PrInCE.Rcheck Warnings: 1