Package: Polytect Version: 1.1.0 Command: /home/biocbuild/R/R/bin/R CMD INSTALL Polytect StartedAt: 2025-10-16 21:20:57 -0000 (Thu, 16 Oct 2025) EndedAt: 2025-10-16 21:21:24 -0000 (Thu, 16 Oct 2025) EllapsedTime: 26.7 seconds RetCode: 0 Status: OK