Package: Polytect Version: 1.1.0 Command: rm -rf Polytect.buildbin-libdir && mkdir Polytect.buildbin-libdir && F:\biocbuild\bbs-3.22-bioc\R\bin\R.exe CMD INSTALL --build --library=Polytect.buildbin-libdir Polytect_1.1.0.tar.gz StartedAt: 2025-08-15 10:58:43 -0400 (Fri, 15 Aug 2025) EndedAt: 2025-08-15 10:59:16 -0400 (Fri, 15 Aug 2025) EllapsedTime: 33.6 seconds RetCode: 0 Status: OK PackageFile: Polytect_1.1.0.zip PackageFileSize: 2.073 MiB