Package: Polytect Version: 1.1.0 Command: /Library/Frameworks/R.framework/Resources/bin/R CMD build --keep-empty-dirs --no-resave-data Polytect StartedAt: 2025-10-03 18:30:25 -0400 (Fri, 03 Oct 2025) EndedAt: 2025-10-03 18:31:57 -0400 (Fri, 03 Oct 2025) EllapsedTime: 91.4 seconds RetCode: 0 Status: OK PackageFile: Polytect_1.1.0.tar.gz PackageFileSize: 2.126 MiB